BEGIN:VCALENDAR
VERSION:2.0
PRODID:-//89.9 The Wave - ECPv4.6.26//NONSGML v1.0//EN
CALSCALE:GREGORIAN
METHOD:PUBLISH
X-WR-CALNAME:89.9 The Wave
X-ORIGINAL-URL:https://899thewave.fm
X-WR-CALDESC:Events for 89.9 The Wave
BEGIN:VEVENT
DTSTART;VALUE=DATE:20200605
DTEND;VALUE=DATE:20200606
DTSTAMP:20260424T151255
CREATED:20200604T121925Z
LAST-MODIFIED:20200604T121925Z
UID:12208-1591315200-1591401599@899thewave.fm
SUMMARY:NATIONAL DONUT DAY
DESCRIPTION:Annually celebrated on the first Friday of June\, National Donut Day was established by The Salvation Army in 1938 to honour The Salvation Army’s “Donut Lassies\,” who served these delicious treats to soldiers during World War 1. \nThe Salvation Army celebrated the first ever National Donut Day in Chicago back in 1938. The celebration was to help raise funds during the Great Depression and commemorate the work of these women. Today\, the donut is symbolic of all the social services The Salvation Army provides to those in need. \nDuring the current global pandemic\, it serves as a token of appreciation to those working on the front lines and serving the community. \nMaybe buy a donut for a front line worker? \n
URL:https://899thewave.fm/event/national-donut-day/
CATEGORIES:Observances
ATTACH;FMTTYPE=image/jpeg:https://899thewave.fm/wp-content/uploads/sites/4/2020/06/photo-1527515545081-5db817172677.jpg
END:VEVENT
END:VCALENDAR