BEGIN:VCALENDAR
VERSION:2.0
PRODID:-//89.9 The Wave - ECPv4.6.26//NONSGML v1.0//EN
CALSCALE:GREGORIAN
METHOD:PUBLISH
X-WR-CALNAME:89.9 The Wave
X-ORIGINAL-URL:https://899thewave.fm
X-WR-CALDESC:Events for 89.9 The Wave
BEGIN:VEVENT
DTSTART;VALUE=DATE:20190929
DTEND;VALUE=DATE:20190930
DTSTAMP:20260421T121459
CREATED:20190608T235230Z
LAST-MODIFIED:20190608T235230Z
UID:9309-1569715200-1569801599@899thewave.fm
SUMMARY:National Coffee Day
DESCRIPTION:www.public-domain-image.com (public domain image) \n
URL:https://899thewave.fm/event/national-coffee-day/
END:VEVENT
END:VCALENDAR