BEGIN:VCALENDAR
VERSION:2.0
PRODID:-//89.9 The Wave - ECPv4.6.26//NONSGML v1.0//EN
CALSCALE:GREGORIAN
METHOD:PUBLISH
X-WR-CALNAME:89.9 The Wave
X-ORIGINAL-URL:https://899thewave.fm
X-WR-CALDESC:Events for 89.9 The Wave
BEGIN:VEVENT
DTSTART;VALUE=DATE:20190929
DTEND;VALUE=DATE:20190930
DTSTAMP:20260421T132927
CREATED:20190618T233410Z
LAST-MODIFIED:20190618T233410Z
UID:9425-1569715200-1569801599@899thewave.fm
SUMMARY:Movie Night (outside)
DESCRIPTION:Movie Nights at Good Robot Brewing (free event) \nNorth End Halifax. \nSeptember 29th – Jurassic Park (outdoor) \n
URL:https://899thewave.fm/event/movie-night-outside-2/
END:VEVENT
END:VCALENDAR