BEGIN:VCALENDAR
VERSION:2.0
PRODID:-//89.9 The Wave - ECPv4.6.26//NONSGML v1.0//EN
CALSCALE:GREGORIAN
METHOD:PUBLISH
X-WR-CALNAME:89.9 The Wave
X-ORIGINAL-URL:https://899thewave.fm
X-WR-CALDESC:Events for 89.9 The Wave
BEGIN:VEVENT
DTSTART;VALUE=DATE:20190625
DTEND;VALUE=DATE:20190626
DTSTAMP:20260421T092437
CREATED:20190429T192042Z
LAST-MODIFIED:20190429T192042Z
UID:8441-1561420800-1561507199@899thewave.fm
SUMMARY:Michael Jackson passed away in 2009
DESCRIPTION:
URL:https://899thewave.fm/event/michael-jackson-passed-away-in-2009/
END:VEVENT
END:VCALENDAR