BEGIN:VCALENDAR
VERSION:2.0
PRODID:-//89.9 The Wave - ECPv4.6.26//NONSGML v1.0//EN
CALSCALE:GREGORIAN
METHOD:PUBLISH
X-WR-CALNAME:89.9 The Wave
X-ORIGINAL-URL:https://899thewave.fm
X-WR-CALDESC:Events for 89.9 The Wave
BEGIN:VEVENT
DTSTART;VALUE=DATE:20190630
DTEND;VALUE=DATE:20190701
DTSTAMP:20260421T035305
CREATED:20190429T192207Z
LAST-MODIFIED:20190608T203630Z
UID:8449-1561852800-1561939199@899thewave.fm
SUMMARY:Madonna releases the album ‘True Blue’ in 1986
DESCRIPTION:The album was released June 30\, 1986. \n \n  \n  \n
URL:https://899thewave.fm/event/madonna-releases-the-album-true-blue-in-1986/
END:VEVENT
END:VCALENDAR