BEGIN:VCALENDAR
VERSION:2.0
PRODID:-//89.9 The Wave - ECPv4.6.26//NONSGML v1.0//EN
CALSCALE:GREGORIAN
METHOD:PUBLISH
X-WR-CALNAME:89.9 The Wave
X-ORIGINAL-URL:https://899thewave.fm
X-WR-CALDESC:Events for 89.9 The Wave
BEGIN:VEVENT
DTSTART;VALUE=DATE:20190713
DTEND;VALUE=DATE:20190714
DTSTAMP:20260420T100926
CREATED:20190627T231041Z
LAST-MODIFIED:20190708T160808Z
UID:9521-1562976000-1563062399@899thewave.fm
SUMMARY:Live Aid (1985)
DESCRIPTION:Live Aid \nSaturday July 13\, 1985 \nAttendance : London (72\,000) Philadelphia (100\,000) \n@ 4 pm 89 9 The Wave will feature four songs from Live Aid (2 from the London show and 2 from the Philadelphia show) \n \n
URL:https://899thewave.fm/event/live-aid-1985/
END:VEVENT
END:VCALENDAR