BEGIN:VCALENDAR
VERSION:2.0
PRODID:-//89.9 The Wave - ECPv4.6.26//NONSGML v1.0//EN
CALSCALE:GREGORIAN
METHOD:PUBLISH
X-WR-CALNAME:89.9 The Wave
X-ORIGINAL-URL:https://899thewave.fm
X-WR-CALDESC:Events for 89.9 The Wave
BEGIN:VEVENT
DTSTART;VALUE=DATE:20170408
DTEND;VALUE=DATE:20170409
DTSTAMP:20260421T105701
CREATED:20170403T165628Z
LAST-MODIFIED:20170403T165628Z
UID:3346-1491609600-1491695999@899thewave.fm
SUMMARY:Lawrencetown Spring Craft Fair
DESCRIPTION:Annual Lawrencetown Spring Craft Fair at the Lawrencetown Community Center at 3657 Lawrencetown Road. Drop by to check out the beautifully\, unique handcrafted items our local vendors have to offer and grab a delicious homemade lunch at our on site cafe. Doors open at 9am FREE ADMISSION! Accepting items for our local food bank. #shoplocal \n
URL:https://899thewave.fm/event/lawrencetown-spring-craft-fair/
END:VEVENT
END:VCALENDAR