BEGIN:VCALENDAR
VERSION:2.0
PRODID:-//89.9 The Wave - ECPv4.6.26//NONSGML v1.0//EN
CALSCALE:GREGORIAN
METHOD:PUBLISH
X-WR-CALNAME:89.9 The Wave
X-ORIGINAL-URL:https://899thewave.fm
X-WR-CALDESC:Events for 89.9 The Wave
BEGIN:VEVENT
DTSTART;VALUE=DATE:20191122
DTEND;VALUE=DATE:20191125
DTSTAMP:20260419T150747
CREATED:20190503T164325Z
LAST-MODIFIED:20190503T164325Z
UID:8617-1574380800-1574639999@899thewave.fm
SUMMARY:Gordon Lightfoot in Halifax
DESCRIPTION:November 22-November 24 \nThe Legendary Gordon Lightfoot in concert \nCohn \nDalhousie Arts Centre \n6101 University Avenue\nPO Box 15000\nHalifax\, NS  B3H 4R2 \n
URL:https://899thewave.fm/event/gordon-lightfoot-in-halifax/
END:VEVENT
END:VCALENDAR