BEGIN:VCALENDAR
VERSION:2.0
PRODID:-//89.9 The Wave - ECPv4.6.26//NONSGML v1.0//EN
CALSCALE:GREGORIAN
METHOD:PUBLISH
X-WR-CALNAME:89.9 The Wave
X-ORIGINAL-URL:https://899thewave.fm
X-WR-CALDESC:Events for 89.9 The Wave
BEGIN:VEVENT
DTSTART;VALUE=DATE:20191122
DTEND;VALUE=DATE:20191123
DTSTAMP:20260419T135318
CREATED:20190510T003248Z
LAST-MODIFIED:20190510T003248Z
UID:8704-1574380800-1574467199@899thewave.fm
SUMMARY:Frozen 2 in theaters
DESCRIPTION:November 22 \nThey’re back!! Get ready for another adventure with Elsa\, Anna\, Kristoff\, and Olaf again. Frozen 2\, the highly anticipated sequel to the global phenomenon Frozen – first released in 2013. The first movie is still beloved and still regarded as an international favorite with audiences all over\, and this one will be playing off of that. \n
URL:https://899thewave.fm/event/frozen-2-in-theaters/
END:VEVENT
END:VCALENDAR