BEGIN:VCALENDAR
VERSION:2.0
PRODID:-//89.9 The Wave - ECPv4.6.26//NONSGML v1.0//EN
CALSCALE:GREGORIAN
METHOD:PUBLISH
X-WR-CALNAME:89.9 The Wave
X-ORIGINAL-URL:https://899thewave.fm
X-WR-CALDESC:Events for 89.9 The Wave
BEGIN:VEVENT
DTSTART;TZID=America/Halifax:20170429T090000
DTEND;TZID=America/Halifax:20170429T120000
DTSTAMP:20260420T083938
CREATED:20170419T190917Z
LAST-MODIFIED:20170419T190917Z
UID:3528-1493456400-1493467200@899thewave.fm
SUMMARY:Five kilometer Fund Raising “Life Run”
DESCRIPTION:Five kilometer Fund Raising “Life Run” April 29th\, at 9:00 a.m. in support of Help 2 Overcome. The race will start and end at the Black Point Fire Hall on St. Margaret’s Bay Rd. Registration is $5.00 and starts 8:00 a.m. at the Fire Hall. \nHelp 2 Overcome is a Canadian-based\, registered charity located in Black Point that is committed to providing water and sanitation to schools in Sierra Leone. Unsafe water\, inadequate sanitation and lack of hygiene affects the health\, safety\, and quality of life of children. Reducing these problems helps kids get back to school. It also protects girls’ right to education as girls are reluctant to continue their schooling when toilet and washing facilities are not private\, not safe\, not clean\, or simply not available. Ben John will be returning to Sierra Leone in September. Your donation will help build toilets and provide water to the schools. \nFor more information go to \nhttps://www.facebook.com/events/992992840832168/permalink/994439740687478/?notif_t=like&notif_id=1491812534998079 \nhttps://www.help2overcome.org/ \n
URL:https://899thewave.fm/event/five-kilometer-fund-raising-life-run/
END:VEVENT
END:VCALENDAR