BEGIN:VCALENDAR
VERSION:2.0
PRODID:-//89.9 The Wave - ECPv4.6.26//NONSGML v1.0//EN
CALSCALE:GREGORIAN
METHOD:PUBLISH
X-WR-CALNAME:89.9 The Wave
X-ORIGINAL-URL:https://899thewave.fm
X-WR-CALDESC:Events for 89.9 The Wave
BEGIN:VEVENT
DTSTART;VALUE=DATE:20260423
DTEND;VALUE=DATE:20260425
DTSTAMP:20260421T163326
CREATED:20260415T140407Z
LAST-MODIFIED:20260415T140407Z
UID:18533-1776902400-1777075199@899thewave.fm
SUMMARY:Eelgrass Meadows of the Maritimes: A Two-Night Celebration
DESCRIPTION:The event will showcase the scientific research\, restoration efforts and community engagement that have made eelgrass conservation possible in our waters. Each evening will feature a series of short talks that will highlight various aspects of eelgrass conservation efforts in recent years\, including \n\nSimon Ryder-Burbidge on kayak-based eelgrass monitoring with the EAC;\nNicolas Winkler on venturing under the ice to photograph overwintering eelgrass;\nDr. Kristina Boerder on CERI’s scientific and restoration work\,\nand more!\n\nWe hope you join us for a chance to meet with our speakers and hear about the important work they’re doing. \nWhen: We will be hosting this event over two days: \n\nThursday\, April 23 from 6 to 8 p.m.\nFriday\, April 24 from 6 to 8 p.m.\n\nWhere: the Ecology Action Centre (2705 Fern Lane\, Halifax\, NS) \nAdmission is free\, and all are welcome. Light catering and refreshments will be provided. \nReserve your spot by completing the form on this page. Attendance is limited to 35 people per day. We look forward to seeing you there! \nEelgrass Meadows of the Maritimes is co-hosted by the Ecology Action Centre\, the Community Eelgrass Restoration Initiative (CERI) and Zuppa. \n
URL:https://899thewave.fm/event/eelgrass-meadows-of-the-maritimes-a-two-night-celebration/
ATTACH;FMTTYPE=image/jpeg:https://899thewave.fm/wp-content/uploads/sites/4/2026/04/eelgrass-banner.jpg
END:VEVENT
END:VCALENDAR