BEGIN:VCALENDAR
VERSION:2.0
PRODID:-//89.9 The Wave - ECPv4.6.26//NONSGML v1.0//EN
CALSCALE:GREGORIAN
METHOD:PUBLISH
X-WR-CALNAME:89.9 The Wave
X-ORIGINAL-URL:https://899thewave.fm
X-WR-CALDESC:Events for 89.9 The Wave
BEGIN:VEVENT
DTSTART;VALUE=DATE:20181116
DTEND;VALUE=DATE:20181117
DTSTAMP:20260421T121509
CREATED:20181102T121114Z
LAST-MODIFIED:20181102T121114Z
UID:7278-1542326400-1542412799@899thewave.fm
SUMMARY:Christmas Crawl Festival
DESCRIPTION:Christmas Crawl Festival  –  This is an annual festival that strings together holiday events to sip\, savour\, shop and craft all along the South Shore. Drop in for the day\, or enjoy a festive-infused stay-cation – either way don’t forget to choose and cut your balsam fir Christmas Tree to take home!   Where: All along the South Shore of Nova Scotia in communities like St. Margaret’s Bay\, Hubbards\, Chester\, Lunenburg\, Mahone Bay\, Bridgewater\, New Ross\, Liverpool\, Shelburne\, Barrington\, Lockeport etc.   ChristmasCrawl.ca  \n
URL:https://899thewave.fm/event/christmas-crawl-festival/
END:VEVENT
END:VCALENDAR