BEGIN:VCALENDAR
VERSION:2.0
PRODID:-//89.9 The Wave - ECPv4.6.26//NONSGML v1.0//EN
CALSCALE:GREGORIAN
METHOD:PUBLISH
X-WR-CALNAME:89.9 The Wave
X-ORIGINAL-URL:https://899thewave.fm
X-WR-CALDESC:Events for 89.9 The Wave
BEGIN:VEVENT
DTSTART;VALUE=DATE:20211020
DTEND;VALUE=DATE:20211021
DTSTAMP:20260421T105518
CREATED:20201014T150132Z
LAST-MODIFIED:20211001T172143Z
UID:13276-1634688000-1634774399@899thewave.fm
SUMMARY:Birthday - TOM PETTY
DESCRIPTION:Thomas Earl Petty (October 20\, 1950 – October 2\, 2017) was an American singer-songwriter\, multi-instrumentalist\, record producer\, and actor. \nHe was the lead vocalist and guitarist of Tom Petty and the Heartbreakers\, formed in 1976. He previously led the band Mudcrutch\, and was also a member of the late 1980s supergroup the Traveling Wilburys. \nIn his career\, he sold more than 80 million records worldwide\, making him one of the best-selling music artists of all time. Petty and the Heartbreakers were inducted into the Rock and Roll Hall of Fame in 2002. \nPetty died of an accidental drug overdose on October 2\, 2017\, one week after the end of the Heartbreakers’ 40th Anniversary Tour. \n  \n  \n
URL:https://899thewave.fm/event/birthday-tom-petty/
CATEGORIES:Birthday
ATTACH;FMTTYPE=image/jpeg:https://899thewave.fm/wp-content/uploads/sites/4/2020/06/photo-1523757956233-94a86ff74ea5.jpg
END:VEVENT
END:VCALENDAR