BEGIN:VCALENDAR
VERSION:2.0
PRODID:-//89.9 The Wave - ECPv4.6.26//NONSGML v1.0//EN
CALSCALE:GREGORIAN
METHOD:PUBLISH
X-WR-CALNAME:89.9 The Wave
X-ORIGINAL-URL:https://899thewave.fm
X-WR-CALDESC:Events for 89.9 The Wave
BEGIN:VEVENT
DTSTART;VALUE=DATE:20210526
DTEND;VALUE=DATE:20210527
DTSTAMP:20260422T105807
CREATED:20200526T092508Z
LAST-MODIFIED:20210104T140040Z
UID:12129-1621987200-1622073599@899thewave.fm
SUMMARY:Birthday - LENNY KRAVITZ (57)
DESCRIPTION:Leonard Albert Kravitz (born May 26\, 1964) is an American singer\, songwriter\, musician\, record producer\, and actor. \nHis style incorporates elements of rock\, blues\, soul\, R&B\, funk\, jazz\, reggae\, hard rock\, psychedelic\, pop\, folk\, and ballads. \nKravitz won the Grammy Award for Best Male Rock Vocal Performance four years in a row from 1999 to 2002\, breaking the record for most wins in that category and setting the record for most consecutive wins in one category by a male. \nHe has been nominated for and won other awards\, including American Music Awards\, MTV Video Music Awards\, Radio Music Awards\, Brit Awards\, and Blockbuster Entertainment Awards. He was also ranked at No. 93 on VH1’s “100 Greatest Artists of Hard Rock”. \nHe was made an Officer of the Ordre des Arts et des Lettres in 2011. \nHis acting credits include the role of Cinna in the Hunger Games film series. \n
URL:https://899thewave.fm/event/birthday-lenny-kravitz/
CATEGORIES:Birthday
ATTACH;FMTTYPE=image/jpeg:https://899thewave.fm/wp-content/uploads/sites/4/2020/03/photo-1523757956233-94a86ff74ea5.jpg
END:VEVENT
END:VCALENDAR