BEGIN:VCALENDAR
VERSION:2.0
PRODID:-//89.9 The Wave - ECPv4.6.26//NONSGML v1.0//EN
CALSCALE:GREGORIAN
METHOD:PUBLISH
X-WR-CALNAME:89.9 The Wave
X-ORIGINAL-URL:https://899thewave.fm
X-WR-CALDESC:Events for 89.9 The Wave
BEGIN:VEVENT
DTSTART;TZID=America/Halifax:20211218T080000
DTEND;TZID=America/Halifax:20211218T170000
DTSTAMP:20260422T110506
CREATED:20211217T164011Z
LAST-MODIFIED:20211217T164011Z
UID:15909-1639814400-1639846800@899thewave.fm
SUMMARY:Birthday - KEITH RICHARDS (78)
DESCRIPTION:Keith Richards (born 18 December 1943)\, is an English musician\, singer\, and songwriter\, who has achieved international fame as the co-founder\, guitarist\, secondary vocalist\, and co-principal songwriter of the Rolling Stones. His songwriting partnership with Mick Jagger is one of the most successful in history. \nRichards is widely considered one of the greatest guitarists of all time. \nHis career spans over six decades and his guitar playing style has been a trademark of the Rolling Stones throughout the band’s career. Richards gained press notoriety for his romantic involvements\, illicit drug use and was often portrayed as a countercultural figure. \nHe also appeared in three Pirates of the Caribbean films as Captain Teague\, father of Jack Sparrow\, whose look and characterization was inspired by Richards himself. \nIn 1989\, Richards was inducted into the Rock and Roll Hall of Fame\, and in 2004 into the UK Music Hall of Fame with the Rolling Stones. \nRolling Stone magazine ranked him fourth on its list of 100 best guitarists in 2011.\nThe magazine lists fourteen songs that Richards wrote with the Rolling Stones’ lead vocalist Jagger on its “500 Greatest Songs of All Time” list. \n
URL:https://899thewave.fm/event/birthday-keith-richards-78/
CATEGORIES:Birthday
ATTACH;FMTTYPE=image/jpeg:https://899thewave.fm/wp-content/uploads/sites/4/2021/12/photo-1523757956233-94a86ff74ea5.jpg
END:VEVENT
END:VCALENDAR