BEGIN:VCALENDAR
VERSION:2.0
PRODID:-//89.9 The Wave - ECPv4.6.26//NONSGML v1.0//EN
CALSCALE:GREGORIAN
METHOD:PUBLISH
X-WR-CALNAME:89.9 The Wave
X-ORIGINAL-URL:https://899thewave.fm
X-WR-CALDESC:Events for 89.9 The Wave
BEGIN:VEVENT
DTSTART;VALUE=DATE:20210729
DTEND;VALUE=DATE:20210730
DTSTAMP:20260424T002556
CREATED:20200720T123548Z
LAST-MODIFIED:20210107T131625Z
UID:12581-1627516800-1627603199@899thewave.fm
SUMMARY:Birthday - GEDDY LEE (68)
DESCRIPTION:Geddy Lee Weinrib\, OC (born July 29\, 1953)\, known professionally as Geddy Lee\, is a Canadian musician\, singer\, and songwriter. \nHe is best known as the lead vocalist\, bassist\, and keyboardist for the Canadian rock group Rush. \nAn award-winning musician\, Lee’s style\, technique\, and skill on the bass guitar have inspired many rock musicians.  Along with his Rush bandmates – guitarist Alex Lifeson and drummer Neil Peart – Lee was made an Officer of the Order of Canada on May 9\, 1996. The trio was the first rock band to be so honoured\, as a group. \nIn 2013\, the group was inducted into the Rock and Roll Hall of Fame after 14 years of eligibility; they were nominated overwhelmingly in the Hall’s first selection via fan ballot. \nLee is ranked 13th by Hit Parader on their list of the 100 Greatest Heavy Metal Vocalists of All Time. \n
URL:https://899thewave.fm/event/birthday-geddy-lee-67/
CATEGORIES:Birthday
ATTACH;FMTTYPE=image/jpeg:https://899thewave.fm/wp-content/uploads/sites/4/2020/06/photo-1523757956233-94a86ff74ea5.jpg
END:VEVENT
END:VCALENDAR