BEGIN:VCALENDAR
VERSION:2.0
PRODID:-//89.9 The Wave - ECPv4.6.26//NONSGML v1.0//EN
CALSCALE:GREGORIAN
METHOD:PUBLISH
X-WR-CALNAME:89.9 The Wave
X-ORIGINAL-URL:https://899thewave.fm
X-WR-CALDESC:Events for 89.9 The Wave
BEGIN:VEVENT
DTSTART;VALUE=DATE:20211019
DTEND;VALUE=DATE:20211020
DTSTAMP:20260422T103921
CREATED:20201019T125545Z
LAST-MODIFIED:20211019T145141Z
UID:13313-1634601600-1634687999@899thewave.fm
SUMMARY:Album - NOT FRAGILE (BTO)
DESCRIPTION:Released in September\, Canada’s Bachman-Turner Overdrive’s “Not Fragile” hit #1 in the US album charts on this date in 1974. \nA single from the LP\, “You Ain’t Seen Nothing Yet”\, also topped the American charts. \n
URL:https://899thewave.fm/event/album-not-fragile-bto/
CATEGORIES:Album
ATTACH;FMTTYPE=image/jpeg:https://899thewave.fm/wp-content/uploads/sites/4/2020/10/Bachman-Turner_Overdrive_-_Not_Fragile.jpg
END:VEVENT
END:VCALENDAR